BEGIN:VCALENDAR
VERSION:2.0
PRODID:-//wp-events-plugin.com//7.2.3.1//EN
BEGIN:VEVENT
UID:10@utecinc.org
DTSTART;TZID=America/New_York:20260917T080000
DTEND;TZID=America/New_York:20260918T160000
DTSTAMP:20260331T172255Z
URL:https://utecinc.org/events/new-england-streetworker-conference-2/
SUMMARY:New England Streetworker Conference
DESCRIPTION:Gillette Stadium\nThe New England Streetworker Conference is an
  annual gathering for frontline outreach workers and violence prevention p
 rofessionals across the region. Created to strengthen and elevate the fiel
 d\, the conference offers expert-led workshops\, peer learning\, and netwo
 rking opportunities. Attendees gain valuable skills\, share best practices
 \, and connect with others dedicated to building safer\, healthier communi
 ties.\n\nVisit www.utecinc.org/streetworker-conference for more informatio
 n!
ATTACH;FMTTYPE=image/jpeg:https://utecinc.org/wp-content/uploads/2026/03/S
 treetworker-Conference-logo-2026.png
END:VEVENT
BEGIN:VTIMEZONE
TZID:America/New_York
X-LIC-LOCATION:America/New_York
BEGIN:DAYLIGHT
DTSTART:20260308T030000
TZOFFSETFROM:-0500
TZOFFSETTO:-0400
TZNAME:EDT
END:DAYLIGHT
END:VTIMEZONE
END:VCALENDAR